View In:
ArcGIS JavaScript
ArcGIS Online Map Viewer
ArcGIS Earth
ArcMap
View Footprint In:
ArcGIS Online Map Viewer
Service Description: nfms/LANDSAT_False_2000
Name: nfms/LANDSAT_False_2000
Description:
Single Fused Map Cache: false
Extent:
XMin: 1.1045444979691975E7
YMin: 1506343.3277548668
XMax: 1.2082510332276642E7
YMax: 2600928.4398529567
Spatial Reference: 102100
(3857)
Initial Extent:
XMin: 1.1045444979691975E7
YMin: 1506343.3277548668
XMax: 1.2082510332276642E7
YMax: 2600928.4398529567
Spatial Reference: 102100
(3857)
Full Extent:
XMin: 1.1045444979691975E7
YMin: 1506343.3277548668
XMax: 1.2082510332276642E7
YMax: 2600928.4398529567
Spatial Reference: 102100
(3857)
Pixel Size X: 0.2985821416476168
Pixel Size Y: 0.298582141647617
Band Count: 3
Pixel Type: U8
RasterFunction Infos: {"rasterFunctionInfos": [{
"name": "None",
"description": "",
"help": ""
}]}
Mensuration Capabilities: Basic
Has Histograms: false
Has Colormap: false
Has Multi Dimensions : false
Rendering Rule:
Min Scale: 0
Max Scale: 0
Copyright Text:
Service Data Type: esriImageServiceDataTypeRGB
Min Values: N/A
Max Values: N/A
Mean Values: N/A
Standard Deviation Values: N/A
Object ID Field:
Fields:
None
Default Mosaic Method: Center
Allowed Mosaic Methods:
SortField:
SortValue: null
Mosaic Operator: First
Default Compression Quality: 75
Default Resampling Method: Bilinear
Max Record Count: null
Max Image Height: 4100
Max Image Width: 15000
Max Download Image Count: null
Max Mosaic Image Count: null
Allow Raster Function: true
Allow Compute TiePoints: false
Supports Statistics: false
Supports Advanced Queries: false
Use StandardizedQueries: true
Raster Type Infos:
Name: Raster Dataset
Description: Supports all ArcGIS Raster Datasets
Help:
Has Raster Attribute Table: false
Edit Fields Info: null
Ownership Based AccessControl For Rasters: null
Child Resources:
Info
Key Properties
Legend
rasterFunctionInfos
Supported Operations:
Export Image
Identify
Measure
Compute Histograms
Compute Statistics Histograms
Get Samples
Compute Class Statistics
Query Boundary
Compute Pixel Location
Validate
Project